BEGIN:VCALENDAR
VERSION:2.0
PRODID:-//www.tcadr.org//NONSGML kigkonsult.se iCalcreator 2.30.10//
CALSCALE:GREGORIAN
METHOD:PUBLISH
UID:86b85530-5581-43a5-b38e-f46d7df21cce
X-WR-CALDESC:Registration opens September 7
X-WR-RELCALID:83c72fd146b1fe225941b12c05f2f429
X-WR-TIMEZONE:America/New_York
BEGIN:VTIMEZONE
TZID:America/New_York
BEGIN:STANDARD
TZNAME:EST
DTSTART:20201101T020000
TZOFFSETFROM:-0400
TZOFFSETTO:-0500
RDATE:20211107T020000
END:STANDARD
BEGIN:DAYLIGHT
TZNAME:EDT
DTSTART:20200308T020000
TZOFFSETFROM:-0500
TZOFFSETTO:-0400
RDATE:20210314T020000
RDATE:20220313T020000
END:DAYLIGHT
END:VTIMEZONE
BEGIN:VEVENT
UID:28ba3f48-09fb-4006-9f61-0b2c8a17eab9
DTSTAMP:20260426T030238Z
DESCRIPTION:Registration opens September 7
DTSTART;TZID=America/New_York:20201113T080000
DTEND;TZID=America/New_York:20201113T153000
LOCATION:Teaneck Marriott at Glenpointe
SUMMARY:7th Annual Tree of Addiction Conference
END:VEVENT
END:VCALENDAR
