BEGIN:VCALENDAR
VERSION:2.0
PRODID:-//www.tcadr.org//NONSGML kigkonsult.se iCalcreator 2.30.10//
CALSCALE:GREGORIAN
METHOD:PUBLISH
UID:9d7cd636-e4a7-4900-b244-9def7154ac7a
X-WR-CALDESC:Every Person Influences Children (EPIC) : Through participatio
 n in the  EPIC program parents experience increased confidence\, more posi
 tive view of their role as a parent\, and the greater the levels of intera
 ction with their children\, improved relationships with their children\, a
 nd gain a set of skills to use as their children grow. This allows for chi
 ldren to become better prepared for school and personal success.\n\nThe EP
 IC program has been recognized countywide and statewide for being cost eff
 icient\, results oriented\, and parent friendly.\n\n**Counts for mandated 
 parenting class**\n\nCost: $240 (Call about sliding scale)\n\nAudience: An
 yone involved in a child's life
X-WR-RELCALID:e76ad292273544951516b7d658b66097
X-WR-TIMEZONE:America/New_York
BEGIN:VTIMEZONE
TZID:America/New_York
BEGIN:STANDARD
TZNAME:EST
DTSTART:20201101T020000
TZOFFSETFROM:-0400
TZOFFSETTO:-0500
RDATE:20211107T020000
END:STANDARD
BEGIN:DAYLIGHT
TZNAME:EDT
DTSTART:20200308T020000
TZOFFSETFROM:-0500
TZOFFSETTO:-0400
RDATE:20210314T020000
RDATE:20220313T020000
END:DAYLIGHT
END:VTIMEZONE
BEGIN:VEVENT
UID:d3f11441-3f9c-4b52-bf0c-ae41fe309700
DTSTAMP:20260424T191005Z
DESCRIPTION:Every Person Influences Children (EPIC) : Through participation
  in the  EPIC program parents experience increased confidence\, more posit
 ive view of their role as a parent\, and the greater the levels of interac
 tion with their children\, improved relationships with their children\, an
 d gain a set of skills to use as their children grow. This allows for chil
 dren to become better prepared for school and personal success.\n\nThe EPI
 C program has been recognized countywide and statewide for being cost effi
 cient\, results oriented\, and parent friendly.\n\n**Counts for mandated p
 arenting class**\n\nCost: $240 (Call about sliding scale)\n\nAudience: Any
 one involved in a child's life
DTSTART;TZID=America/New_York:20210120T121500
DTEND;TZID=America/New_York:20210120T141500
LOCATION:Zoom
SUMMARY:EPIC Parenting (Virtual)
END:VEVENT
END:VCALENDAR
