BEGIN:VCALENDAR
VERSION:2.0
PRODID:-//www.tcadr.org//NONSGML kigkonsult.se iCalcreator 2.30.10//
CALSCALE:GREGORIAN
METHOD:PUBLISH
UID:e46dc823-b474-4457-b00d-13b467b65411
X-WR-CALDESC:This program helps parents and caregivers build on their stren
 gths in showing love and setting limits\, helps youth develop skills for b
 uilding a\npositive future\, and helps families grow together and become s
 tronger.\n\nRegistration is required - Space is limited!  Register by Febr
 uary 25th!\n\nFor more information please contact Jan Ramos
X-WR-RELCALID:50dc254e782fcd1e5fc8c12a251f7e2e
X-WR-TIMEZONE:America/New_York
BEGIN:VTIMEZONE
TZID:America/New_York
BEGIN:STANDARD
TZNAME:EST
DTSTART:20201101T020000
TZOFFSETFROM:-0400
TZOFFSETTO:-0500
RDATE:20211107T020000
END:STANDARD
BEGIN:DAYLIGHT
TZNAME:EDT
DTSTART:20200308T020000
TZOFFSETFROM:-0500
TZOFFSETTO:-0400
RDATE:20210314T020000
RDATE:20220313T020000
END:DAYLIGHT
END:VTIMEZONE
BEGIN:VEVENT
UID:3bcdf83b-829f-41f3-9cbb-f05b331ceb9c
DTSTAMP:20260423T151006Z
DESCRIPTION:This program helps parents and caregivers build on their streng
 ths in showing love and setting limits\, helps youth develop skills for bu
 ilding a\npositive future\, and helps families grow together and become st
 ronger.\n\nRegistration is required - Space is limited!  Register by Febru
 ary 25th!\n\nFor more information please contact Jan Ramos
DTSTART;TZID=America/New_York:20210302T180000
DTEND;TZID=America/New_York:20210302T203000
LOCATION:
SUMMARY:Strengthening Families (VIRTUAL)
END:VEVENT
END:VCALENDAR
