BEGIN:VCALENDAR
VERSION:2.0
PRODID:-//www.tcadr.org//NONSGML kigkonsult.se iCalcreator 2.30.10//
CALSCALE:GREGORIAN
METHOD:PUBLISH
UID:afcf5ace-cf81-47ee-9689-5272d316695a
X-WR-CALDESC:Healthy Visions is a free 6-week virtual program for youth age
 s 11-15. This is a supportive education program for children who have pare
 nts/guardians who are struggling with or are in recovery from the disease 
 of addiction. The interactive activities and discussions are designed to h
 elp our youth participate in healing groups and develop skills they need t
 o gain strength from their own resiliency. Youth will be able to explore t
 heir feelings\, learn they are not alone\, and recognize the stressful thi
 ngs that might happen in their families is not their fault.\n\nRegistratio
 n is required!!
X-WR-RELCALID:0a1a667714ab00a1cde176ce9dced38d
X-WR-TIMEZONE:America/New_York
BEGIN:VTIMEZONE
TZID:America/New_York
BEGIN:STANDARD
TZNAME:EST
DTSTART:20201101T020000
TZOFFSETFROM:-0400
TZOFFSETTO:-0500
RDATE:20211107T020000
END:STANDARD
BEGIN:DAYLIGHT
TZNAME:EDT
DTSTART:20210314T020000
TZOFFSETFROM:-0500
TZOFFSETTO:-0400
RDATE:20220313T020000
END:DAYLIGHT
END:VTIMEZONE
BEGIN:VEVENT
UID:4c559177-2fdc-4a67-b025-397d4d581ae9
DTSTAMP:20260425T211138Z
DESCRIPTION:Healthy Visions is a free 6-week virtual program for youth ages
  11-15. This is a supportive education program for children who have paren
 ts/guardians who are struggling with or are in recovery from the disease o
 f addiction. The interactive activities and discussions are designed to he
 lp our youth participate in healing groups and develop skills they need to
  gain strength from their own resiliency. Youth will be able to explore th
 eir feelings\, learn they are not alone\, and recognize the stressful thin
 gs that might happen in their families is not their fault.\n\nRegistration
  is required!!
DTSTART;TZID=America/New_York:20210421T160000
DTEND;TZID=America/New_York:20210421T170000
LOCATION:Virtual Event
SUMMARY:Healthy Visions
END:VEVENT
END:VCALENDAR
