BEGIN:VCALENDAR
VERSION:2.0
PRODID:-//www.tcadr.org//NONSGML kigkonsult.se iCalcreator 2.30.10//
CALSCALE:GREGORIAN
METHOD:PUBLISH
UID:32d084f0-f256-49b9-99fa-663b698918d1
X-WR-CALDESC:Dates: 6/15\, 6/29\, 7/13\, 7/27\, 8/10\, 8/24\n\nA body in mo
 tion stays in motion! This FREE Zoom class led by STUMBA instructor\, Rand
 e Kirkwood and is designed be fun way to work out while at home. Enjoy the
  mind and body benefits of working out without having to go to the gym.\n
 \nPlease bring small weights or two 8 oz water bottles.\n\nRegister for on
 e or register for all by clicking the link below. There will be a $25 gift
  card raffle each session.\n\n*This program is brought to you by Celebrati
 ng Seniors\, an initiative of The Center for Alcohol and Drug Resources\, 
 a program of Children's Aid and Family Services and is funded through by a
  grant through NJDHS - Division of Mental Health and Addiction Services.*
X-WR-RELCALID:c354d66c03d4702db9250199fdf9a6cb
X-WR-TIMEZONE:America/New_York
BEGIN:VTIMEZONE
TZID:America/New_York
BEGIN:STANDARD
TZNAME:EST
DTSTART:20201101T020000
TZOFFSETFROM:-0400
TZOFFSETTO:-0500
RDATE:20211107T020000
RDATE:20221106T020000
END:STANDARD
BEGIN:DAYLIGHT
TZNAME:EDT
DTSTART:20210314T020000
TZOFFSETFROM:-0500
TZOFFSETTO:-0400
RDATE:20220313T020000
END:DAYLIGHT
END:VTIMEZONE
BEGIN:VEVENT
UID:f542e11c-9aab-4a51-bf9e-dbbe6bc742ab
DTSTAMP:20260423T231712Z
DESCRIPTION:Dates: 6/15\, 6/29\, 7/13\, 7/27\, 8/10\, 8/24\n\nA body in mot
 ion stays in motion! This FREE Zoom class led by STUMBA instructor\, Rande
  Kirkwood and is designed be fun way to work out while at home. Enjoy the 
 mind and body benefits of working out without having to go to the gym.\n\n
 Please bring small weights or two 8 oz water bottles.\n\nRegister for one 
 or register for all by clicking the link below. There will be a $25 gift c
 ard raffle each session.\n\n*This program is brought to you by Celebrating
  Seniors\, an initiative of The Center for Alcohol and Drug Resources\, a 
 program of Children's Aid and Family Services and is funded through by a g
 rant through NJDHS - Division of Mental Health and Addiction Services.*
DTSTART;TZID=America/New_York:20210727T100000
DTEND;TZID=America/New_York:20210727T110000
LOCATION:
SUMMARY:Summer Fitness Series
END:VEVENT
END:VCALENDAR
