BEGIN:VCALENDAR
VERSION:2.0
PRODID:-//www.tcadr.org//NONSGML kigkonsult.se iCalcreator 2.30.10//
CALSCALE:GREGORIAN
METHOD:PUBLISH
UID:f5a1e183-ceb4-4113-9f1b-146e82f754a4
X-WR-CALDESC:Dates: 7/5\, 7/16\, 8/2\, 8/6\, 8/16\, 8/20\n\nJoin us as we s
 hift mind\, body\, & breath together and ease pain with soft\, sweet\, smo
 oth moves.\n\nDo you ever have pain? This free Zoom workshop for older adu
 lts will explore some gentle pain busting moves while increasing mindfulne
 ss to help conquer the pain we face on a daily basis. Join one date or joi
 n both.\n\nThere will be a $25 gift card raffle for people who attend!\n\n
 Facilitator speaks Spanish.\n\n*This program is brought to you by Celebrat
 ing Seniors\, an initiative of The Center for Alcohol and Drug Resources\,
  a program of Children's Aid and Family Services and is funded through by 
 a grant through NJDHS - Division of Mental Health and Addiction Services. 
 *\n\n
X-WR-RELCALID:2caf6ebb10c0ef9fb5ca09aeafee9f1b
X-WR-TIMEZONE:America/New_York
BEGIN:VTIMEZONE
TZID:America/New_York
BEGIN:STANDARD
TZNAME:EST
DTSTART:20201101T020000
TZOFFSETFROM:-0400
TZOFFSETTO:-0500
RDATE:20211107T020000
RDATE:20221106T020000
END:STANDARD
BEGIN:DAYLIGHT
TZNAME:EDT
DTSTART:20210314T020000
TZOFFSETFROM:-0500
TZOFFSETTO:-0400
RDATE:20220313T020000
END:DAYLIGHT
END:VTIMEZONE
BEGIN:VEVENT
UID:ad9f0ca1-9680-442a-945e-8daf404c4745
DTSTAMP:20260424T200929Z
DESCRIPTION:Dates: 7/5\, 7/16\, 8/2\, 8/6\, 8/16\, 8/20\n\nJoin us as we sh
 ift mind\, body\, & breath together and ease pain with soft\, sweet\, smoo
 th moves.\n\nDo you ever have pain? This free Zoom workshop for older adul
 ts will explore some gentle pain busting moves while increasing mindfulnes
 s to help conquer the pain we face on a daily basis. Join one date or join
  both.\n\nThere will be a $25 gift card raffle for people who attend!\n\nF
 acilitator speaks Spanish.\n\n*This program is brought to you by Celebrati
 ng Seniors\, an initiative of The Center for Alcohol and Drug Resources\, 
 a program of Children's Aid and Family Services and is funded through by a
  grant through NJDHS - Division of Mental Health and Addiction Services. *
 \n\n
DTSTART;TZID=America/New_York:20210816T110000
DTEND;TZID=America/New_York:20210816T120000
LOCATION:Zoom
SUMMARY:Summer Mindful Bodies
END:VEVENT
END:VCALENDAR
