BEGIN:VCALENDAR
VERSION:2.0
PRODID:-//www.tcadr.org//NONSGML kigkonsult.se iCalcreator 2.30.10//
CALSCALE:GREGORIAN
METHOD:PUBLISH
UID:f6d7556c-9d62-4ad8-b238-c6c9fccda6c2
X-WR-CALDESC:Mondays: 7/12\, 7/19\, 7/26\, 8/2\, 8/9\, 8/16\, & 8/23\nThis 
 free\, fun\, virtual and interactive 7 week program uses games and family 
 activities to build on family strengths making them stronger.\n\nEach fami
 ly will receive dinner (on a night different than the program) as part of 
 a family fun night.\n\nGraduating families will receive a $100 Gift card.
 \n\nMany parents have found that this program has helped them to connect w
 ith other parents\, understand their youth more\, and communicate better a
 s a family.\n\nMany of the youth have found that this program helped them 
 to resist peer pressure\, taught them about drugs and alcohol\, and helped
  their families connect.\n\nAgenda\nParent Activity: 6:00-6:45\nYouth Acti
 vity: 6:45-7:30\nFamily Activity: 7:30-8:00\n\n\nThe only requirement for 
 this program is having a child between the ages of 10 and 14.
X-WR-RELCALID:d4c22080ed64ea83c22bf533ca5fa515
X-WR-TIMEZONE:America/New_York
BEGIN:VTIMEZONE
TZID:America/New_York
BEGIN:STANDARD
TZNAME:EST
DTSTART:20201101T020000
TZOFFSETFROM:-0400
TZOFFSETTO:-0500
RDATE:20211107T020000
RDATE:20221106T020000
END:STANDARD
BEGIN:DAYLIGHT
TZNAME:EDT
DTSTART:20210314T020000
TZOFFSETFROM:-0500
TZOFFSETTO:-0400
RDATE:20220313T020000
END:DAYLIGHT
END:VTIMEZONE
BEGIN:VEVENT
UID:964697fd-6bc5-43f8-b2e1-51345023f898
DTSTAMP:20260423T143825Z
DESCRIPTION:Mondays: 7/12\, 7/19\, 7/26\, 8/2\, 8/9\, 8/16\, & 8/23\nThis f
 ree\, fun\, virtual and interactive 7 week program uses games and family a
 ctivities to build on family strengths making them stronger.\n\nEach famil
 y will receive dinner (on a night different than the program) as part of a
  family fun night.\n\nGraduating families will receive a $100 Gift card.\n
 \nMany parents have found that this program has helped them to connect wit
 h other parents\, understand their youth more\, and communicate better as 
 a family.\n\nMany of the youth have found that this program helped them to
  resist peer pressure\, taught them about drugs and alcohol\, and helped t
 heir families connect.\n\nAgenda\nParent Activity: 6:00-6:45\nYouth Activi
 ty: 6:45-7:30\nFamily Activity: 7:30-8:00\n\n\nThe only requirement for th
 is program is having a child between the ages of 10 and 14.
DTSTART;TZID=America/New_York:20210823T180000
DTEND;TZID=America/New_York:20210823T203000
LOCATION:
SUMMARY:Strengthening Families (Virtual - Bergen)
END:VEVENT
END:VCALENDAR
