BEGIN:VCALENDAR
VERSION:2.0
PRODID:-//www.tcadr.org//NONSGML kigkonsult.se iCalcreator 2.30.10//
CALSCALE:GREGORIAN
METHOD:PUBLISH
UID:29e7a572-65d7-490e-a4aa-a327d93f6f7e
X-WR-CALDESC:Join us for some fun with painting and sparkling cider! We wil
 l provide all the supplies you need to participate in this painting progra
 m.  \n\nMust register by 12/30!\n\n*Materials will be provided & $25 atten
 dance raffle for older adults in Bergen or Passaic County*
X-WR-RELCALID:be439d5a49bfa9694a0fc723e9a017cb
X-WR-TIMEZONE:America/New_York
BEGIN:VTIMEZONE
TZID:America/New_York
BEGIN:STANDARD
TZNAME:EST
DTSTART:20211107T020000
TZOFFSETFROM:-0400
TZOFFSETTO:-0500
RDATE:20221106T020000
END:STANDARD
BEGIN:DAYLIGHT
TZNAME:EDT
DTSTART:20210314T020000
TZOFFSETFROM:-0500
TZOFFSETTO:-0400
RDATE:20220313T020000
RDATE:20230312T020000
END:DAYLIGHT
END:VTIMEZONE
BEGIN:VEVENT
UID:b6703ae5-e575-4f18-8d2e-5951b4b7cb3e
DTSTAMP:20260426T023930Z
DESCRIPTION:Join us for some fun with painting and sparkling cider! We will
  provide all the supplies you need to participate in this painting program
 .  \n\nMust register by 12/30!\n\n*Materials will be provided & $25 attend
 ance raffle for older adults in Bergen or Passaic County*
DTSTART;TZID=America/New_York:20220106T110000
DTEND;TZID=America/New_York:20220106T120000
LOCATION:Zoom
SUMMARY:Virtual Paint and Sip
END:VEVENT
END:VCALENDAR
