BEGIN:VCALENDAR
VERSION:2.0
PRODID:-//www.tcadr.org//NONSGML kigkonsult.se iCalcreator 2.30.10//
CALSCALE:GREGORIAN
METHOD:PUBLISH
UID:e9b67b99-8da7-4ca8-964e-2be418da37d8
X-WR-CALDESC:Member graduation.
X-WR-RELCALID:de6fceb03a0e5ea84433d2cd553bc16e
X-WR-TIMEZONE:America/New_York
BEGIN:VTIMEZONE
TZID:America/New_York
BEGIN:STANDARD
TZNAME:EST
DTSTART:20211107T020000
TZOFFSETFROM:-0400
TZOFFSETTO:-0500
RDATE:20221106T020000
END:STANDARD
BEGIN:DAYLIGHT
TZNAME:EDT
DTSTART:20210314T020000
TZOFFSETFROM:-0500
TZOFFSETTO:-0400
RDATE:20220313T020000
RDATE:20230312T020000
END:DAYLIGHT
END:VTIMEZONE
BEGIN:VEVENT
UID:29d2acba-7cea-4318-bd36-5ab2f5a32a5d
DTSTAMP:20260424T081613Z
DESCRIPTION:Member graduation.
DTSTART;TZID=America/New_York:20220107T160000
DTEND;TZID=America/New_York:20220107T170000
LOCATION:TCADR Fair Lawn Office
SUMMARY:Recovery Support Graduation
END:VEVENT
END:VCALENDAR
