BEGIN:VCALENDAR
VERSION:2.0
PRODID:-//www.tcadr.org//NONSGML kigkonsult.se iCalcreator 2.30.10//
CALSCALE:GREGORIAN
METHOD:PUBLISH
UID:225a6381-0cb7-48de-b545-f8f745cd24e9
X-WR-CALDESC:Join us for the movie premiere of “King Richard” starring Gram
 my Award Winning actor Will Smith.  The movie will be split over two days.
 \n\nKing Richard is a 2021 American biographical drama film directed by Re
 inaldo Marcus Green and written by Zach Baylin that follows the life of Ri
 chard Williams\, the father and coach of famed tennis players Venus and Se
 rena Williams\, who serve as executive producers of the film. It stars Wil
 l Smith in the title role\, Aunjanue Ellis\, Saniyya Sidney\, Demi Singlet
 on\, Tony Goldwyn\, and Jon Bernthal.\n\n*$25 gift card attendance raffle 
 for older adults from Bergen or Passaic County that attend both days*
X-WR-RELCALID:6c5126a76ba5935787cefc7b79994540
X-WR-TIMEZONE:America/New_York
BEGIN:VTIMEZONE
TZID:America/New_York
BEGIN:STANDARD
TZNAME:EST
DTSTART:20211107T020000
TZOFFSETFROM:-0400
TZOFFSETTO:-0500
RDATE:20221106T020000
END:STANDARD
BEGIN:DAYLIGHT
TZNAME:EDT
DTSTART:20210314T020000
TZOFFSETFROM:-0500
TZOFFSETTO:-0400
RDATE:20220313T020000
RDATE:20230312T020000
END:DAYLIGHT
END:VTIMEZONE
BEGIN:VEVENT
UID:83139b39-a3e9-463c-aa82-bc5c9cc53bef
DTSTAMP:20260426T043802Z
DESCRIPTION:Join us for the movie premiere of “King Richard” starring Gramm
 y Award Winning actor Will Smith.  The movie will be split over two days.
 \n\nKing Richard is a 2021 American biographical drama film directed by Re
 inaldo Marcus Green and written by Zach Baylin that follows the life of Ri
 chard Williams\, the father and coach of famed tennis players Venus and Se
 rena Williams\, who serve as executive producers of the film. It stars Wil
 l Smith in the title role\, Aunjanue Ellis\, Saniyya Sidney\, Demi Singlet
 on\, Tony Goldwyn\, and Jon Bernthal.\n\n*$25 gift card attendance raffle 
 for older adults from Bergen or Passaic County that attend both days*
DTSTART;TZID=America/New_York:20220121T110000
DTEND;TZID=America/New_York:20220121T120000
LOCATION:
SUMMARY:Movie Premiere “King Richard”
END:VEVENT
END:VCALENDAR
