BEGIN:VCALENDAR
VERSION:2.0
PRODID:-//www.tcadr.org//NONSGML kigkonsult.se iCalcreator 2.30.10//
CALSCALE:GREGORIAN
METHOD:PUBLISH
UID:249b0f1b-9d0a-4a71-8da2-3a876e5d9bef
X-WR-CALDESC:Life for teens today is no longer a playground. It’s a jungle 
 out there\, with tough choices\, peer pressure\, personal insecurities\, a
 nd anxiety about what others think.\n\nThis Workshop Can Help You:\nGain g
 reater control of your life.\nImprove relationships with family & friends.
 \nFind what matters most.\nRecognize & prioritize goals.\nFind balance bet
 ween school\, work\, friends\, & everything else.\n
X-WR-RELCALID:d010f98752d6f2cd1a03a687e2bc7312
X-WR-TIMEZONE:America/New_York
BEGIN:VTIMEZONE
TZID:America/New_York
BEGIN:STANDARD
TZNAME:EST
DTSTART:20221106T020000
TZOFFSETFROM:-0400
TZOFFSETTO:-0500
RDATE:20231105T020000
END:STANDARD
BEGIN:DAYLIGHT
TZNAME:EDT
DTSTART:20230312T020000
TZOFFSETFROM:-0500
TZOFFSETTO:-0400
RDATE:20240310T020000
END:DAYLIGHT
END:VTIMEZONE
BEGIN:VEVENT
UID:89f5345c-b9e9-47c8-abd1-e72d983c7341
DTSTAMP:20260424T204102Z
DESCRIPTION:Life for teens today is no longer a playground. It’s a jungle o
 ut there\, with tough choices\, peer pressure\, personal insecurities\, an
 d anxiety about what others think.\n\nThis Workshop Can Help You:\nGain gr
 eater control of your life.\nImprove relationships with family & friends.
 \nFind what matters most.\nRecognize & prioritize goals.\nFind balance bet
 ween school\, work\, friends\, & everything else.\n
DTSTART;TZID=America/New_York:20230426T170000
DTEND;TZID=America/New_York:20230426T180000
LOCATION:Highlands Family Success Center 1801 Greenwood Lake Turnpike\, Hew
 itt\, NJ 07421
SUMMARY:The 7 Habits of Highly Effective Teens
END:VEVENT
END:VCALENDAR
