BEGIN:VCALENDAR
VERSION:2.0
PRODID:-//www.tcadr.org//NONSGML kigkonsult.se iCalcreator 2.30.10//
CALSCALE:GREGORIAN
METHOD:PUBLISH
UID:9f64b75c-eec0-4a52-b17f-2c57046c0656
X-WR-CALDESC:Learn how to Protect yourself in a Retail World \nBergen & Pas
 saic County Division of Consumer Affairs\n\n\nWhat are the laws on Retail/
 Gift Cards\, Refund Policies\, Merchandise Tags\, etc.\, Joining a Health 
 Club? What to know before you sign a contract. Vehicle Repairs? What quali
 fies for the Lemon Law & leasing a vehicle.                               
                              We will discuss both new & pre-owned vehicle 
 purchases.\n\nJoin us Wednesday\, June 7th 2:00-3:00\nby clicking the blac
 k button\n\n*$25 Gift Card Raffle for Bergen and Passaic County Attendees*
 \n
X-WR-RELCALID:94ae0aeca7e96b4eee55979b9d9be936
X-WR-TIMEZONE:America/New_York
BEGIN:VTIMEZONE
TZID:America/New_York
BEGIN:STANDARD
TZNAME:EST
DTSTART:20221106T020000
TZOFFSETFROM:-0400
TZOFFSETTO:-0500
RDATE:20231105T020000
RDATE:20241103T020000
END:STANDARD
BEGIN:DAYLIGHT
TZNAME:EDT
DTSTART:20230312T020000
TZOFFSETFROM:-0500
TZOFFSETTO:-0400
RDATE:20240310T020000
END:DAYLIGHT
END:VTIMEZONE
BEGIN:VEVENT
UID:28caf1db-8bfd-4c47-bf26-fdd8ba40ce15
DTSTAMP:20260425T130010Z
DESCRIPTION:Learn how to Protect yourself in a Retail World \nBergen & Pass
 aic County Division of Consumer Affairs\n\n\nWhat are the laws on Retail/G
 ift Cards\, Refund Policies\, Merchandise Tags\, etc.\, Joining a Health C
 lub? What to know before you sign a contract. Vehicle Repairs? What qualif
 ies for the Lemon Law & leasing a vehicle.                                
                             We will discuss both new & pre-owned vehicle p
 urchases.\n\nJoin us Wednesday\, June 7th 2:00-3:00\nby clicking the black
  button\n\n*$25 Gift Card Raffle for Bergen and Passaic County Attendees*
 \n
DTSTART;TZID=America/New_York:20230607T140000
DTEND;TZID=America/New_York:20230607T150000
LOCATION:https://us02web.zoom.us/j/82540576671?pwd=TzluazIvYXBTWmNLcUhudlIx
 akpLdz09#success
SUMMARY:Protecting Yourself in the Retail World
END:VEVENT
END:VCALENDAR
