BEGIN:VCALENDAR
VERSION:2.0
PRODID:-//www.tcadr.org//NONSGML kigkonsult.se iCalcreator 2.30.10//
CALSCALE:GREGORIAN
METHOD:PUBLISH
UID:442d5baf-cf8f-42cc-a54c-13a8654320e5
X-WR-CALDESC:Tablet for Seniors program educates older adults on how to use
  a tablet/ internet. For 3 sessions seniors learn how to navigate the inte
 rnet\, how to use zoom\, email\, play games and internet security. While l
 earning digital skills seniors stay socially connected and increase wellne
 ss.
X-WR-RELCALID:ad94724ec85050d68fd7867985f00cfe
X-WR-TIMEZONE:America/New_York
BEGIN:VTIMEZONE
TZID:America/New_York
BEGIN:STANDARD
TZNAME:EST
DTSTART:20231105T020000
TZOFFSETFROM:-0400
TZOFFSETTO:-0500
RDATE:20241103T020000
RDATE:20251102T020000
END:STANDARD
BEGIN:DAYLIGHT
TZNAME:EDT
DTSTART:20240310T020000
TZOFFSETFROM:-0500
TZOFFSETTO:-0400
RDATE:20250309T020000
RDATE:20260308T020000
END:DAYLIGHT
END:VTIMEZONE
BEGIN:VEVENT
UID:a63a05d4-c019-4466-a9f0-b08ba950fb0a
DTSTAMP:20260424T143812Z
DESCRIPTION:Tablet for Seniors program educates older adults on how to use 
 a tablet/ internet. For 3 sessions seniors learn how to navigate the inter
 net\, how to use zoom\, email\, play games and internet security. While le
 arning digital skills seniors stay socially connected and increase wellnes
 s.
DTSTART;TZID=America/New_York:20241104T110000
DTEND;TZID=America/New_York:20241104T120000
LOCATION:2100 Summerhill Rd\, Wayne\, NJ 07470
SUMMARY:Tablet for Seniors
END:VEVENT
END:VCALENDAR
