BEGIN:VCALENDAR
VERSION:2.0
PRODID:-//www.tcadr.org//NONSGML kigkonsult.se iCalcreator 2.30.10//
CALSCALE:GREGORIAN
METHOD:PUBLISH
UID:7a6506d2-3af1-46cd-80d1-a6ced426870e
X-WR-CALDESC:If you are interested in attending\, email our Family Support 
 Specialist at familysupport@cafsnj.org.
X-WR-RELCALID:0ed7a8c4478553628bc9190c828ff2c9
X-WR-TIMEZONE:America/New_York
BEGIN:VTIMEZONE
TZID:America/New_York
BEGIN:STANDARD
TZNAME:EST
DTSTART:20241103T020000
TZOFFSETFROM:-0400
TZOFFSETTO:-0500
RDATE:20251102T020000
END:STANDARD
BEGIN:DAYLIGHT
TZNAME:EDT
DTSTART:20240310T020000
TZOFFSETFROM:-0500
TZOFFSETTO:-0400
RDATE:20250309T020000
RDATE:20260308T020000
END:DAYLIGHT
END:VTIMEZONE
BEGIN:VEVENT
UID:c9022448-810e-4d2e-a34f-b2954136181b
DTSTAMP:20260424T144256Z
DESCRIPTION:If you are interested in attending\, email our Family Support S
 pecialist at familysupport@cafsnj.org.
DTSTART;TZID=America/New_York:20241106T180000
DTEND;TZID=America/New_York:20241106T190000
LOCATION:
SUMMARY:HYBRID Family Support Group
END:VEVENT
END:VCALENDAR
