BEGIN:VCALENDAR
VERSION:2.0
PRODID:-//www.tcadr.org//NONSGML kigkonsult.se iCalcreator 2.30.10//
CALSCALE:GREGORIAN
METHOD:PUBLISH
UID:7145cba1-a901-45dc-afc2-33debfce6433
X-WR-CALDESC:Wednesday\, November 13th 1:00-2:00\n\nJoin us for this inform
 ative hour with \nJoseph Chu\, Certified Senior Advisor\nNavigating the co
 mplexities of caring for ourselves or loved ones as we age can be challeng
 ing. Senior Living Advisors provide expert guidance to help empower older 
 adults and their families to make informed decisions about the confusing w
 orld of senior living. Bring your questions for our expert Mr. Chu! \n\n*$
 25 Gift Card Raffle for Bergen and Passaic County Attendees*\n
X-WR-RELCALID:8c815e513df8ba9ba6aceae05d090114
X-WR-TIMEZONE:America/New_York
BEGIN:VTIMEZONE
TZID:America/New_York
BEGIN:STANDARD
TZNAME:EST
DTSTART:20241103T020000
TZOFFSETFROM:-0400
TZOFFSETTO:-0500
RDATE:20251102T020000
END:STANDARD
BEGIN:DAYLIGHT
TZNAME:EDT
DTSTART:20240310T020000
TZOFFSETFROM:-0500
TZOFFSETTO:-0400
RDATE:20250309T020000
RDATE:20260308T020000
END:DAYLIGHT
END:VTIMEZONE
BEGIN:VEVENT
UID:5329c739-fda5-4df2-b5f2-ff5a42e640bc
DTSTAMP:20260424T144300Z
DESCRIPTION:Wednesday\, November 13th 1:00-2:00\n\nJoin us for this informa
 tive hour with \nJoseph Chu\, Certified Senior Advisor\nNavigating the com
 plexities of caring for ourselves or loved ones as we age can be challengi
 ng. Senior Living Advisors provide expert guidance to help empower older a
 dults and their families to make informed decisions about the confusing wo
 rld of senior living. Bring your questions for our expert Mr. Chu! \n\n*$2
 5 Gift Card Raffle for Bergen and Passaic County Attendees*\n
DTSTART;TZID=America/New_York:20241113T130000
DTEND;TZID=America/New_York:20241113T140000
LOCATION:https://www.tcadr.org/celebratingseniors/communityhappenings.html
SUMMARY:Senior Living Advisor! Understanding Assisted Living
END:VEVENT
END:VCALENDAR
