BEGIN:VCALENDAR
VERSION:2.0
PRODID:-//www.tcadr.org//NONSGML kigkonsult.se iCalcreator 2.30.10//
CALSCALE:GREGORIAN
METHOD:PUBLISH
UID:b61407fc-1e94-4ca1-8515-b67f218732d7
X-WR-CALDESC:
X-WR-RELCALID:1d31516498c85ae7a26f1793954e6640
X-WR-TIMEZONE:America/New_York
BEGIN:VTIMEZONE
TZID:America/New_York
BEGIN:STANDARD
TZNAME:EST
DTSTART:20241103T020000
TZOFFSETFROM:-0400
TZOFFSETTO:-0500
RDATE:20251102T020000
END:STANDARD
BEGIN:DAYLIGHT
TZNAME:EDT
DTSTART:20240310T020000
TZOFFSETFROM:-0500
TZOFFSETTO:-0400
RDATE:20250309T020000
RDATE:20260308T020000
END:DAYLIGHT
END:VTIMEZONE
BEGIN:VEVENT
UID:3175d83d-2bd8-4a5a-b17c-a39ad4b30a99
DTSTAMP:20260424T143726Z
DESCRIPTION:
DTSTART;TZID=America/New_York:20241114T080000
DTEND;TZID=America/New_York:20241114T150000
LOCATION:255 Route 17 South \, Wood-Ridge NJ\, NJ 07075 US
SUMMARY:Annual Tree of Addiction Conference
END:VEVENT
END:VCALENDAR
