BEGIN:VCALENDAR
VERSION:2.0
PRODID:-//www.tcadr.org//NONSGML kigkonsult.se iCalcreator 2.30.10//
CALSCALE:GREGORIAN
METHOD:PUBLISH
UID:f04af2be-54b4-45bd-a140-1d139ad7e46d
X-WR-CALDESC:
X-WR-RELCALID:78d065390515fbc8599b774e2e16a150
X-WR-TIMEZONE:America/New_York
BEGIN:VTIMEZONE
TZID:America/New_York
BEGIN:STANDARD
TZNAME:EST
DTSTART:20241103T020000
TZOFFSETFROM:-0400
TZOFFSETTO:-0500
RDATE:20251102T020000
END:STANDARD
BEGIN:DAYLIGHT
TZNAME:EDT
DTSTART:20240310T020000
TZOFFSETFROM:-0500
TZOFFSETTO:-0400
RDATE:20250309T020000
RDATE:20260308T020000
END:DAYLIGHT
END:VTIMEZONE
BEGIN:VEVENT
UID:b2917a50-872a-45ea-ae72-6b4969a9d387
DTSTAMP:20260424T144428Z
DESCRIPTION:
DTSTART;TZID=America/New_York:20241125T083000
DTEND;TZID=America/New_York:20241125T123000
LOCATION:100 River Road\, Teaneck\, NJ 07666 US
SUMMARY:Annual Seeds of Change Conference
END:VEVENT
END:VCALENDAR
