BEGIN:VCALENDAR
VERSION:2.0
PRODID:-//www.tcadr.org//NONSGML kigkonsult.se iCalcreator 2.30.10//
CALSCALE:GREGORIAN
METHOD:PUBLISH
UID:7f4d2d54-2565-435a-a659-6ca537f195b8
X-WR-CALDESC:If you are interested in attending\, email our Family Support 
 Specialist at familysupport@cafsnj.org.
X-WR-RELCALID:3e16f750458cea246c054235e39881f7
X-WR-TIMEZONE:America/New_York
BEGIN:VTIMEZONE
TZID:America/New_York
BEGIN:STANDARD
TZNAME:EST
DTSTART:20241103T020000
TZOFFSETFROM:-0400
TZOFFSETTO:-0500
RDATE:20251102T020000
END:STANDARD
BEGIN:DAYLIGHT
TZNAME:EDT
DTSTART:20240310T020000
TZOFFSETFROM:-0500
TZOFFSETTO:-0400
RDATE:20250309T020000
RDATE:20260308T020000
END:DAYLIGHT
END:VTIMEZONE
BEGIN:VEVENT
UID:9e46e065-3bc1-4e28-9482-de64a6ecf86d
DTSTAMP:20260424T131438Z
DESCRIPTION:If you are interested in attending\, email our Family Support S
 pecialist at familysupport@cafsnj.org.
DTSTART;TZID=America/New_York:20241225T180000
DTEND;TZID=America/New_York:20241225T190000
LOCATION:
SUMMARY:HYBRID Family Support Group
END:VEVENT
END:VCALENDAR
