BEGIN:VCALENDAR
VERSION:2.0
PRODID:-//www.tcadr.org//NONSGML kigkonsult.se iCalcreator 2.30.10//
CALSCALE:GREGORIAN
METHOD:PUBLISH
UID:9be45a96-f384-4f2e-9941-b730bb94824d
X-WR-CALDESC:Tablet for Seniors program educates older adults on how to use
  a tablet/ internet. For 6 sessions seniors learn how to navigating the in
 ternet\, how to use zoom\, email\, play games and internet security. While
  learning digital skills seniors stay socially connected and increase well
 ness.
X-WR-RELCALID:d7d41424bfba418136fdb0f075e58c01
X-WR-TIMEZONE:America/New_York
BEGIN:VTIMEZONE
TZID:America/New_York
BEGIN:STANDARD
TZNAME:EST
DTSTART:20241103T020000
TZOFFSETFROM:-0400
TZOFFSETTO:-0500
RDATE:20251102T020000
END:STANDARD
BEGIN:DAYLIGHT
TZNAME:EDT
DTSTART:20240310T020000
TZOFFSETFROM:-0500
TZOFFSETTO:-0400
RDATE:20250309T020000
RDATE:20260308T020000
END:DAYLIGHT
END:VTIMEZONE
BEGIN:VEVENT
UID:6170515f-2cdd-4ea6-b95e-317e262c9579
DTSTAMP:20260424T114023Z
DESCRIPTION:Tablet for Seniors program educates older adults on how to use 
 a tablet/ internet. For 6 sessions seniors learn how to navigating the int
 ernet\, how to use zoom\, email\, play games and internet security. While 
 learning digital skills seniors stay socially connected and increase welln
 ess.
DTSTART;TZID=America/New_York:20250107T110000
DTEND;TZID=America/New_York:20250107T120000
LOCATION:Wayne Public Library 461 Valley Rd\, Wayne\, NJ
SUMMARY:Tablets for Seniors
END:VEVENT
END:VCALENDAR
