BEGIN:VCALENDAR
VERSION:2.0
PRODID:-//www.tcadr.org//NONSGML kigkonsult.se iCalcreator 2.30.10//
CALSCALE:GREGORIAN
METHOD:PUBLISH
UID:8548e057-b5e2-4333-a171-e1ce4123fc95
X-WR-CALDESC:If you are interested in attending\, email our Family Support 
 Specialist at familysupport@cafsnj.org.
X-WR-RELCALID:a4ff048ae981cc66c859aae28db03d75
X-WR-TIMEZONE:America/New_York
BEGIN:VTIMEZONE
TZID:America/New_York
BEGIN:STANDARD
TZNAME:EST
DTSTART:20241103T020000
TZOFFSETFROM:-0400
TZOFFSETTO:-0500
RDATE:20251102T020000
END:STANDARD
BEGIN:DAYLIGHT
TZNAME:EDT
DTSTART:20240310T020000
TZOFFSETFROM:-0500
TZOFFSETTO:-0400
RDATE:20250309T020000
RDATE:20260308T020000
END:DAYLIGHT
END:VTIMEZONE
BEGIN:VEVENT
UID:23ed88bb-0087-4793-b5ab-5a84b74e7e0b
DTSTAMP:20260424T100832Z
DESCRIPTION:If you are interested in attending\, email our Family Support S
 pecialist at familysupport@cafsnj.org.
DTSTART;TZID=America/New_York:20250226T180000
DTEND;TZID=America/New_York:20250226T190000
LOCATION:
SUMMARY:HYBRID Family Support Group
END:VEVENT
END:VCALENDAR
