BEGIN:VCALENDAR
VERSION:2.0
PRODID:-//www.tcadr.org//NONSGML kigkonsult.se iCalcreator 2.30.10//
CALSCALE:GREGORIAN
METHOD:PUBLISH
UID:e9ead1cc-bd85-4744-baf9-0a1e71255ed4
X-WR-CALDESC:If you are interested in attending\, email our Family Support 
 Specialist at familysupport@cafsnj.org.
X-WR-RELCALID:3f887a0e15509dc9d4cebed32735f4e0
X-WR-TIMEZONE:America/New_York
BEGIN:VTIMEZONE
TZID:America/New_York
BEGIN:STANDARD
TZNAME:EST
DTSTART:20241103T020000
TZOFFSETFROM:-0400
TZOFFSETTO:-0500
RDATE:20251102T020000
END:STANDARD
BEGIN:DAYLIGHT
TZNAME:EDT
DTSTART:20250309T020000
TZOFFSETFROM:-0500
TZOFFSETTO:-0400
RDATE:20260308T020000
END:DAYLIGHT
END:VTIMEZONE
BEGIN:VEVENT
UID:8575e33d-9078-4e13-bfa3-bcc77c97cfef
DTSTAMP:20260424T081827Z
DESCRIPTION:If you are interested in attending\, email our Family Support S
 pecialist at familysupport@cafsnj.org.
DTSTART;TZID=America/New_York:20250312T180000
DTEND;TZID=America/New_York:20250312T190000
LOCATION:
SUMMARY:HYBRID Family Support Group
END:VEVENT
END:VCALENDAR
