BEGIN:VCALENDAR
VERSION:2.0
PRODID:-//www.tcadr.org//NONSGML kigkonsult.se iCalcreator 2.30.10//
CALSCALE:GREGORIAN
METHOD:PUBLISH
UID:241ba94d-7a12-46a2-b9be-e8d392d217e3
X-WR-CALDESC:Join the monthly Bergen County Prevention Coalition meeting to
  create change in your community through substance misuse prevention!
X-WR-RELCALID:d56a314baf1888f758c35e3dc1954315
X-WR-TIMEZONE:America/New_York
BEGIN:VTIMEZONE
TZID:America/New_York
BEGIN:STANDARD
TZNAME:EST
DTSTART:20241103T020000
TZOFFSETFROM:-0400
TZOFFSETTO:-0500
RDATE:20251102T020000
END:STANDARD
BEGIN:DAYLIGHT
TZNAME:EDT
DTSTART:20250309T020000
TZOFFSETFROM:-0500
TZOFFSETTO:-0400
RDATE:20260308T020000
END:DAYLIGHT
END:VTIMEZONE
BEGIN:VEVENT
UID:9dc08c06-1533-41e7-b0b0-885652199871
DTSTAMP:20260424T083110Z
DESCRIPTION:Join the monthly Bergen County Prevention Coalition meeting to 
 create change in your community through substance misuse prevention!
DTSTART;TZID=America/New_York:20250320T100000
DTEND;TZID=America/New_York:20250320T110000
LOCATION:https://us06web.zoom.us/j/84071788437?pwd=a1U4SEEyS1UrbnhYSXFLaFNK
 TXRSUT09
SUMMARY:BCPC Monthly Meeting
END:VEVENT
END:VCALENDAR
