BEGIN:VCALENDAR
VERSION:2.0
PRODID:-//www.tcadr.org//NONSGML kigkonsult.se iCalcreator 2.30.10//
CALSCALE:GREGORIAN
METHOD:PUBLISH
UID:dbd21b0a-7e46-4dab-8376-17796924dc2f
X-WR-CALDESC:Calling all faith leaders of Bergen County! Join us for a lunc
 h and educational presentation to learn more about the important role that
  faith plays in substance misuse prevention and recovery support services.
X-WR-RELCALID:7bdfcaef115899e7cfb90a73690e1ebb
X-WR-TIMEZONE:America/New_York
BEGIN:VTIMEZONE
TZID:America/New_York
BEGIN:STANDARD
TZNAME:EST
DTSTART:20241103T020000
TZOFFSETFROM:-0400
TZOFFSETTO:-0500
RDATE:20251102T020000
END:STANDARD
BEGIN:DAYLIGHT
TZNAME:EDT
DTSTART:20250309T020000
TZOFFSETFROM:-0500
TZOFFSETTO:-0400
RDATE:20260308T020000
END:DAYLIGHT
END:VTIMEZONE
BEGIN:VEVENT
UID:6233aa65-9243-4d4b-ac88-af6c0c20bb38
DTSTAMP:20260424T083110Z
DESCRIPTION:Calling all faith leaders of Bergen County! Join us for a lunch
  and educational presentation to learn more about the important role that 
 faith plays in substance misuse prevention and recovery support services.
DTSTART;TZID=America/New_York:20250326T120000
DTEND;TZID=America/New_York:20250326T140000
LOCATION:22-08 Route 208 South\, Fair Lawn\, NJ 07410 US
SUMMARY:Faith Leader Luncheon
END:VEVENT
END:VCALENDAR
