BEGIN:VCALENDAR
VERSION:2.0
PRODID:-//www.tcadr.org//NONSGML kigkonsult.se iCalcreator 2.30.10//
CALSCALE:GREGORIAN
METHOD:PUBLISH
UID:a4755030-a340-4c6e-9b46-60bc4ce8ae61
X-WR-CALDESC:If you are interested in attending\, email our Family Support 
 Specialist at familysupport@cafsnj.org.
X-WR-RELCALID:b001e28ce1ef4505500e6e5e10444db0
X-WR-TIMEZONE:America/New_York
BEGIN:VTIMEZONE
TZID:America/New_York
BEGIN:STANDARD
TZNAME:EST
DTSTART:20241103T020000
TZOFFSETFROM:-0400
TZOFFSETTO:-0500
RDATE:20251102T020000
RDATE:20261101T020000
END:STANDARD
BEGIN:DAYLIGHT
TZNAME:EDT
DTSTART:20250309T020000
TZOFFSETFROM:-0500
TZOFFSETTO:-0400
RDATE:20260308T020000
END:DAYLIGHT
END:VTIMEZONE
BEGIN:VEVENT
UID:e0575c09-bb49-4e65-a80c-ca1a8e4b57d5
DTSTAMP:20260424T053820Z
DESCRIPTION:If you are interested in attending\, email our Family Support S
 pecialist at familysupport@cafsnj.org.
DTSTART;TZID=America/New_York:20250507T180000
DTEND;TZID=America/New_York:20250507T190000
LOCATION:
SUMMARY:HYBRID Family Support Group
END:VEVENT
END:VCALENDAR
