BEGIN:VCALENDAR
VERSION:2.0
PRODID:-//www.tcadr.org//NONSGML kigkonsult.se iCalcreator 2.30.10//
CALSCALE:GREGORIAN
METHOD:PUBLISH
UID:b987e35a-6230-420d-8c47-43f9f7888eed
X-WR-CALDESC:
X-WR-RELCALID:431433ed49cb7e4d19d5b73c41dd7d6e
X-WR-TIMEZONE:America/New_York
BEGIN:VTIMEZONE
TZID:America/New_York
BEGIN:STANDARD
TZNAME:EST
DTSTART:20241103T020000
TZOFFSETFROM:-0400
TZOFFSETTO:-0500
RDATE:20251102T020000
RDATE:20261101T020000
END:STANDARD
BEGIN:DAYLIGHT
TZNAME:EDT
DTSTART:20250309T020000
TZOFFSETFROM:-0500
TZOFFSETTO:-0400
RDATE:20260308T020000
END:DAYLIGHT
END:VTIMEZONE
BEGIN:VEVENT
UID:f550fd7b-64ab-4f66-8dbf-85857e7d8d9a
DTSTAMP:20260424T034657Z
DESCRIPTION:
DTSTART;TZID=America/New_York:20250611T190000
DTEND;TZID=America/New_York:20250611T200000
LOCATION:https://us06web.zoom.us/meeting/register/KxoIE0wcRVSSjHoxbSSY3A
SUMMARY:BACSA Coalition Monthly Meeting
END:VEVENT
END:VCALENDAR
