BEGIN:VCALENDAR
VERSION:2.0
PRODID:-//www.tcadr.org//NONSGML kigkonsult.se iCalcreator 2.30.10//
CALSCALE:GREGORIAN
METHOD:PUBLISH
UID:5527b65b-d347-4be1-8b96-466ed8aa7558
X-WR-CALDESC:Open to everyone who supports recovery. This meeting is non-de
 nominational and offers an opportunity to focus on the hope found in recov
 ery.
X-WR-RELCALID:32b0b2cdaa2e4433d725dafa855608bc
X-WR-TIMEZONE:America/New_York
BEGIN:VTIMEZONE
TZID:America/New_York
BEGIN:STANDARD
TZNAME:EST
DTSTART:20241103T020000
TZOFFSETFROM:-0400
TZOFFSETTO:-0500
RDATE:20251102T020000
RDATE:20261101T020000
END:STANDARD
BEGIN:DAYLIGHT
TZNAME:EDT
DTSTART:20250309T020000
TZOFFSETFROM:-0500
TZOFFSETTO:-0400
RDATE:20260308T020000
END:DAYLIGHT
END:VTIMEZONE
BEGIN:VEVENT
UID:bfc819c5-353a-4597-9dfd-67a7078cbf90
DTSTAMP:20260424T040427Z
DESCRIPTION:Open to everyone who supports recovery. This meeting is non-den
 ominational and offers an opportunity to focus on the hope found in recove
 ry.
DTSTART;TZID=America/New_York:20250612T170000
DTEND;TZID=America/New_York:20250612T180000
LOCATION:274 Main Street - Johnson Library \, Hackensack\, NJ 07604 US
SUMMARY:All Recovery Meeting
END:VEVENT
END:VCALENDAR
