BEGIN:VCALENDAR
VERSION:2.0
PRODID:-//www.tcadr.org//NONSGML kigkonsult.se iCalcreator 2.30.10//
CALSCALE:GREGORIAN
METHOD:PUBLISH
UID:7115fe45-09b6-410a-8d5d-b3f1c627cf8b
X-WR-CALDESC:
X-WR-RELCALID:baf0cd5f78b837436d60a01e03e8fbdb
X-WR-TIMEZONE:America/New_York
BEGIN:VTIMEZONE
TZID:America/New_York
BEGIN:STANDARD
TZNAME:EST
DTSTART:20241103T020000
TZOFFSETFROM:-0400
TZOFFSETTO:-0500
RDATE:20251102T020000
RDATE:20261101T020000
END:STANDARD
BEGIN:DAYLIGHT
TZNAME:EDT
DTSTART:20250309T020000
TZOFFSETFROM:-0500
TZOFFSETTO:-0400
RDATE:20260308T020000
END:DAYLIGHT
END:VTIMEZONE
BEGIN:VEVENT
UID:3db3d127-11f0-4d72-9973-0de15c8b2bb9
DTSTAMP:20260424T023149Z
DESCRIPTION:
DTSTART;TZID=America/New_York:20250709T190000
DTEND;TZID=America/New_York:20250709T200000
LOCATION:https://us06web.zoom.us/meeting/register/KxoIE0wcRVSSjHoxbSSY3A
SUMMARY:BACSA Coalition Monthly Meeting
END:VEVENT
END:VCALENDAR
