BEGIN:VCALENDAR
VERSION:2.0
PRODID:-//www.tcadr.org//NONSGML kigkonsult.se iCalcreator 2.30.10//
CALSCALE:GREGORIAN
METHOD:PUBLISH
UID:42fd82cb-5cd4-405c-9b48-d8cb65c7dc45
X-WR-CALDESC:Pain is not a normal part of aging. Pain is one of the most co
 mmon conditions in patients over 65. Pain can affect appetite\, sleep\, mo
 od\, and energy. Join us in learn how to manage pain to live a good life. 
 Participants will receive a wellness kit equipped with massager\, essentia
 l oil lotion\, pedometer\, stretch band and other goodies.
X-WR-RELCALID:8807c3c58e1e253e75907b82794e43f4
X-WR-TIMEZONE:America/New_York
BEGIN:VTIMEZONE
TZID:America/New_York
BEGIN:STANDARD
TZNAME:EST
DTSTART:20241103T020000
TZOFFSETFROM:-0400
TZOFFSETTO:-0500
RDATE:20251102T020000
RDATE:20261101T020000
END:STANDARD
BEGIN:DAYLIGHT
TZNAME:EDT
DTSTART:20250309T020000
TZOFFSETFROM:-0500
TZOFFSETTO:-0400
RDATE:20260308T020000
END:DAYLIGHT
END:VTIMEZONE
BEGIN:VEVENT
UID:64cead8f-14ac-428a-b3c8-3b64b908ae41
DTSTAMP:20260424T024026Z
DESCRIPTION:Pain is not a normal part of aging. Pain is one of the most com
 mon conditions in patients over 65. Pain can affect appetite\, sleep\, moo
 d\, and energy. Join us in learn how to manage pain to live a good life. P
 articipants will receive a wellness kit equipped with massager\, essential
  oil lotion\, pedometer\, stretch band and other goodies.
DTSTART;TZID=America/New_York:20250723T130000
DTEND;TZID=America/New_York:20250723T140000
LOCATION:50 Sade Street\, 300 Pompton Road Wayne\, Clifton\, NJ 07013 US
SUMMARY:Managing Pain
END:VEVENT
END:VCALENDAR
