BEGIN:VCALENDAR
VERSION:2.0
PRODID:-//www.tcadr.org//NONSGML kigkonsult.se iCalcreator 2.30.10//
CALSCALE:GREGORIAN
METHOD:PUBLISH
UID:74f474d7-3aa1-4337-a1ee-80be6c15944c
X-WR-CALDESC:Open to everyone who supports recovery. This meeting is non-de
 nominational and offers an opportunity to focus on the hope found in recov
 ery.
X-WR-RELCALID:01b24bf2bfe63a159a8b67f9a5081e09
X-WR-TIMEZONE:America/New_York
BEGIN:VTIMEZONE
TZID:America/New_York
BEGIN:STANDARD
TZNAME:EST
DTSTART:20241103T020000
TZOFFSETFROM:-0400
TZOFFSETTO:-0500
RDATE:20251102T020000
RDATE:20261101T020000
END:STANDARD
BEGIN:DAYLIGHT
TZNAME:EDT
DTSTART:20250309T020000
TZOFFSETFROM:-0500
TZOFFSETTO:-0400
RDATE:20260308T020000
END:DAYLIGHT
END:VTIMEZONE
BEGIN:VEVENT
UID:d4999b57-5eef-42a3-9113-160000d34f00
DTSTAMP:20260424T023258Z
DESCRIPTION:Open to everyone who supports recovery. This meeting is non-den
 ominational and offers an opportunity to focus on the hope found in recove
 ry.
DTSTART;TZID=America/New_York:20250724T170000
DTEND;TZID=America/New_York:20250724T180000
LOCATION:274 Main Street - Johnson Library \, Hackensack\, NJ 07601 US
SUMMARY:All Recovery Meeting
END:VEVENT
END:VCALENDAR
