BEGIN:VCALENDAR
VERSION:2.0
PRODID:-//www.tcadr.org//NONSGML kigkonsult.se iCalcreator 2.30.10//
CALSCALE:GREGORIAN
METHOD:PUBLISH
UID:cbf6e612-f83c-4511-8a50-b71ca22d40e6
X-WR-CALDESC:We will be at 20 communities in the county supporting National
  Night Out and providing prevention materials!
X-WR-RELCALID:48f974197b853d7b4dd17eb2a7305632
X-WR-TIMEZONE:America/New_York
BEGIN:VTIMEZONE
TZID:America/New_York
BEGIN:STANDARD
TZNAME:EST
DTSTART:20241103T020000
TZOFFSETFROM:-0400
TZOFFSETTO:-0500
RDATE:20251102T020000
RDATE:20261101T020000
END:STANDARD
BEGIN:DAYLIGHT
TZNAME:EDT
DTSTART:20250309T020000
TZOFFSETFROM:-0500
TZOFFSETTO:-0400
RDATE:20260308T020000
END:DAYLIGHT
END:VTIMEZONE
BEGIN:VEVENT
UID:4f3c942e-76ef-401d-89f1-fd28ef28534e
DTSTAMP:20260424T010704Z
DESCRIPTION:We will be at 20 communities in the county supporting National 
 Night Out and providing prevention materials!
DTSTART;TZID=America/New_York:20250805T150000
DTEND;TZID=America/New_York:20250805T230000
LOCATION:
SUMMARY:National Night Out
END:VEVENT
END:VCALENDAR
