BEGIN:VCALENDAR
VERSION:2.0
PRODID:-//www.tcadr.org//NONSGML kigkonsult.se iCalcreator 2.30.10//
CALSCALE:GREGORIAN
METHOD:PUBLISH
UID:8e45b696-b6f4-487a-a6dd-2000a6969707
X-WR-CALDESC:
X-WR-RELCALID:6ff4c66840d5127037d6ceecdf12ed09
X-WR-TIMEZONE:America/New_York
BEGIN:VTIMEZONE
TZID:America/New_York
BEGIN:STANDARD
TZNAME:EST
DTSTART:20241103T020000
TZOFFSETFROM:-0400
TZOFFSETTO:-0500
RDATE:20251102T020000
RDATE:20261101T020000
END:STANDARD
BEGIN:DAYLIGHT
TZNAME:EDT
DTSTART:20250309T020000
TZOFFSETFROM:-0500
TZOFFSETTO:-0400
RDATE:20260308T020000
END:DAYLIGHT
END:VTIMEZONE
BEGIN:VEVENT
UID:1ddf7483-73a1-465a-99fb-69ea2fdef7bb
DTSTAMP:20260424T010703Z
DESCRIPTION:
DTSTART;TZID=America/New_York:20250813T190000
DTEND;TZID=America/New_York:20250813T200000
LOCATION:https://us06web.zoom.us/meeting/register/KxoIE0wcRVSSjHoxbSSY3A
SUMMARY:BACSA Coalition Monthly Meeting
END:VEVENT
END:VCALENDAR
