BEGIN:VCALENDAR
VERSION:2.0
PRODID:-//www.tcadr.org//NONSGML kigkonsult.se iCalcreator 2.30.10//
CALSCALE:GREGORIAN
METHOD:PUBLISH
UID:a58b018f-1536-47a1-9f05-53b5aad68c00
X-WR-CALDESC:Open to everyone who supports recovery. This meeting is non-de
 nominational and offers an opportunity to focus on the hope found in recov
 ery.
X-WR-RELCALID:25b4dc134fa5cf7d7231f9de9dd943db
X-WR-TIMEZONE:America/New_York
BEGIN:VTIMEZONE
TZID:America/New_York
BEGIN:STANDARD
TZNAME:EST
DTSTART:20241103T020000
TZOFFSETFROM:-0400
TZOFFSETTO:-0500
RDATE:20251102T020000
RDATE:20261101T020000
END:STANDARD
BEGIN:DAYLIGHT
TZNAME:EDT
DTSTART:20250309T020000
TZOFFSETFROM:-0500
TZOFFSETTO:-0400
RDATE:20260308T020000
END:DAYLIGHT
END:VTIMEZONE
BEGIN:VEVENT
UID:3388f93b-664f-4e8f-90b7-5483b5b9552d
DTSTAMP:20260424T010246Z
DESCRIPTION:Open to everyone who supports recovery. This meeting is non-den
 ominational and offers an opportunity to focus on the hope found in recove
 ry.
DTSTART;TZID=America/New_York:20250821T170000
DTEND;TZID=America/New_York:20250821T180000
LOCATION:274 Main Street - Johnson Library \, Hackensack\, NJ 07601 US
SUMMARY:All Recovery Meeting
END:VEVENT
END:VCALENDAR
