BEGIN:VCALENDAR
VERSION:2.0
PRODID:-//www.tcadr.org//NONSGML kigkonsult.se iCalcreator 2.30.10//
CALSCALE:GREGORIAN
METHOD:PUBLISH
UID:73e7fe57-425b-4792-a9dd-b50e48c5ddec
X-WR-CALDESC:
X-WR-RELCALID:998a6f9ae2bbf299057f05c2542de265
X-WR-TIMEZONE:America/New_York
BEGIN:VTIMEZONE
TZID:America/New_York
BEGIN:STANDARD
TZNAME:EST
DTSTART:20241103T020000
TZOFFSETFROM:-0400
TZOFFSETTO:-0500
RDATE:20251102T020000
RDATE:20261101T020000
END:STANDARD
BEGIN:DAYLIGHT
TZNAME:EDT
DTSTART:20250309T020000
TZOFFSETFROM:-0500
TZOFFSETTO:-0400
RDATE:20260308T020000
END:DAYLIGHT
END:VTIMEZONE
BEGIN:VEVENT
UID:49554d3a-59fe-49cf-949a-77fe8cd07d99
DTSTAMP:20260423T232128Z
DESCRIPTION:
DTSTART;TZID=America/New_York:20250910T190000
DTEND;TZID=America/New_York:20250910T200000
LOCATION:https://us06web.zoom.us/meeting/register/KxoIE0wcRVSSjHoxbSSY3A
SUMMARY:BACSA Coalition Monthly Meeting
END:VEVENT
END:VCALENDAR
