BEGIN:VCALENDAR
VERSION:2.0
PRODID:-//www.tcadr.org//NONSGML kigkonsult.se iCalcreator 2.30.10//
CALSCALE:GREGORIAN
METHOD:PUBLISH
UID:ee40f76f-5e09-4623-8c57-8760e7092739
X-WR-CALDESC:đźŽ¶BUSTERSTOCK 2025\nA Free Concert to End Addiction starts at 6
 :00\nAll Recovery Meeting starts at 5:00\n\nJoin us for an unforgettable n
 ight of music\, community\, and purpose at Busterstock 2025â€”a free concert
  dedicated to raising awareness and support for addiction prevention and r
 ecovery.\n\nđźŽ¤Live Performance by: MarrĂ­ & Friends\nđźŤ”Plus: Food Trucks â€˘ Me
 rch â€˘ Addiction Resources â€˘ Community Fun\n\n\nđź’śWhy We Rock\nAll donations
  from Busterstock benefit the Buster Spike Lucky Elkin Marri Love & Luck F
 und\, created in loving memory to support substance misuse prevention\, ed
 ucation\, and recovery services through The Center for Alcohol and Drug Re
 sources\, a division of Childrenâ€™s Aid and Family Services.\n\nđź› ¸Ź On-Site S
 upport & Resources\n\nFREE Narcan & Fentanyl Testing Strips\nPeer Recovery
  Support Specialists\n24/7 Addiction Support Hotline: 201-589-2976\nVisit 
 StopTheODs.com for more info
X-WR-RELCALID:8d44d7925918141509886eaf336c8d3a
X-WR-TIMEZONE:America/New_York
BEGIN:VTIMEZONE
TZID:America/New_York
BEGIN:STANDARD
TZNAME:EST
DTSTART:20241103T020000
TZOFFSETFROM:-0400
TZOFFSETTO:-0500
RDATE:20251102T020000
RDATE:20261101T020000
END:STANDARD
BEGIN:DAYLIGHT
TZNAME:EDT
DTSTART:20250309T020000
TZOFFSETFROM:-0500
TZOFFSETTO:-0400
RDATE:20260308T020000
RDATE:20270314T020000
END:DAYLIGHT
END:VTIMEZONE
BEGIN:VEVENT
UID:601b8998-8340-4121-a5af-dc9d9daab8be
DTSTAMP:20260423T232106Z
DESCRIPTION:đźŽ¶BUSTERSTOCK 2025\nA Free Concert to End Addiction starts at 6:
 00\nAll Recovery Meeting starts at 5:00\n\nJoin us for an unforgettable ni
 ght of music\, community\, and purpose at Busterstock 2025â€”a free concert 
 dedicated to raising awareness and support for addiction prevention and re
 covery.\n\nđźŽ¤Live Performance by: MarrĂ­ & Friends\nđźŤ”Plus: Food Trucks â€˘ Mer
 ch â€˘ Addiction Resources â€˘ Community Fun\n\n\nđź’śWhy We Rock\nAll donations 
 from Busterstock benefit the Buster Spike Lucky Elkin Marri Love & Luck Fu
 nd\, created in loving memory to support substance misuse prevention\, edu
 cation\, and recovery services through The Center for Alcohol and Drug Res
 ources\, a division of Childrenâ€™s Aid and Family Services.\n\nđź› ¸Ź On-Site Su
 pport & Resources\n\nFREE Narcan & Fentanyl Testing Strips\nPeer Recovery 
 Support Specialists\n24/7 Addiction Support Hotline: 201-589-2976\nVisit S
 topTheODs.com for more info
DTSTART;TZID=America/New_York:20250913T170000
DTEND;TZID=America/New_York:20250913T220000
LOCATION:Paramus Library Band Shell\, 116 E Century Rd\, Paramus\, NJ 07652
  US
SUMMARY:Busterstock
END:VEVENT
END:VCALENDAR
