BEGIN:VCALENDAR
VERSION:2.0
PRODID:-//www.tcadr.org//NONSGML kigkonsult.se iCalcreator 2.30.10//
CALSCALE:GREGORIAN
METHOD:PUBLISH
UID:31d732f2-1d3d-4771-ae26-e4fa94df522e
X-WR-CALDESC:This specialized training is designed for faith-based leaders 
 who are committed to supporting individuals and families affected by the o
 pioid crisis. As trusted voices in the community\, faith leaders play a vi
 tal role in promoting awareness\, compassion\, and life-saving interventio
 ns.\n\nThrough this session\, participants will:\n\nLearn about the impact
  of opioid addiction in our communities\nUnderstand how to recognize the s
 igns of an overdose\nReceive hands-on instruction on administering Naloxon
 e (Narcan)\nExplore ways to integrate recovery support into faith-based ou
 treach\nGain access to resources and tools to continue supporting recovery
  efforts\nThis training was developed in collaboration with local partners
  as part of our efforts to honor Recovery Month and expand the role of fai
 th communities in public health and healing.\n\nWho Should Attend:\nPastor
 s\, clergy\, ministry leaders\, lay leaders\, and anyone serving in a fait
 h-based capacity.
X-WR-RELCALID:0d64e0f317a250416ff76d5492a15c16
X-WR-TIMEZONE:America/New_York
BEGIN:VTIMEZONE
TZID:America/New_York
BEGIN:STANDARD
TZNAME:EST
DTSTART:20241103T020000
TZOFFSETFROM:-0400
TZOFFSETTO:-0500
RDATE:20251102T020000
RDATE:20261101T020000
END:STANDARD
BEGIN:DAYLIGHT
TZNAME:EDT
DTSTART:20250309T020000
TZOFFSETFROM:-0500
TZOFFSETTO:-0400
RDATE:20260308T020000
RDATE:20270314T020000
END:DAYLIGHT
END:VTIMEZONE
BEGIN:VEVENT
UID:b1a18d4e-734c-4fd1-b546-2ffcec74fbf0
DTSTAMP:20260423T232627Z
DESCRIPTION:This specialized training is designed for faith-based leaders w
 ho are committed to supporting individuals and families affected by the op
 ioid crisis. As trusted voices in the community\, faith leaders play a vit
 al role in promoting awareness\, compassion\, and life-saving intervention
 s.\n\nThrough this session\, participants will:\n\nLearn about the impact 
 of opioid addiction in our communities\nUnderstand how to recognize the si
 gns of an overdose\nReceive hands-on instruction on administering Naloxone
  (Narcan)\nExplore ways to integrate recovery support into faith-based out
 reach\nGain access to resources and tools to continue supporting recovery 
 efforts\nThis training was developed in collaboration with local partners 
 as part of our efforts to honor Recovery Month and expand the role of fait
 h communities in public health and healing.\n\nWho Should Attend:\nPastors
 \, clergy\, ministry leaders\, lay leaders\, and anyone serving in a faith
 -based capacity.
DTSTART;TZID=America/New_York:20250915T100000
DTEND;TZID=America/New_York:20250915T113000
LOCATION:Children's Aid and Family Services\, 22-08 Route 208 South\, Fair 
 Lawn\, NJ 07410 US
SUMMARY:Faith Based Narcan Training (Recovery Month Observance)
END:VEVENT
END:VCALENDAR
