BEGIN:VCALENDAR
VERSION:2.0
PRODID:-//www.tcadr.org//NONSGML kigkonsult.se iCalcreator 2.30.10//
CALSCALE:GREGORIAN
METHOD:PUBLISH
UID:d16e1f36-a029-4932-a0ec-e96f2d12c68b
X-WR-CALDESC:
X-WR-RELCALID:705b5331db1d1b7728e8440933170afc
X-WR-TIMEZONE:America/New_York
BEGIN:VTIMEZONE
TZID:America/New_York
BEGIN:STANDARD
TZNAME:EST
DTSTART:20241103T020000
TZOFFSETFROM:-0400
TZOFFSETTO:-0500
RDATE:20251102T020000
RDATE:20261101T020000
END:STANDARD
BEGIN:DAYLIGHT
TZNAME:EDT
DTSTART:20250309T020000
TZOFFSETFROM:-0500
TZOFFSETTO:-0400
RDATE:20260308T020000
RDATE:20270314T020000
END:DAYLIGHT
END:VTIMEZONE
BEGIN:VEVENT
UID:c252ac35-d441-401b-ac16-43a57aaabeec
DTSTAMP:20260423T233028Z
DESCRIPTION:
DTSTART;TZID=America/New_York:20250918T100000
DTEND;TZID=America/New_York:20250918T120000
LOCATION:3 University plaza Driv\, Bergen's Promise\, Hackensack\, NJ 07601
  US
SUMMARY:BCPC Monthly Meeting
END:VEVENT
END:VCALENDAR
