BEGIN:VCALENDAR
VERSION:2.0
PRODID:-//www.tcadr.org//NONSGML kigkonsult.se iCalcreator 2.30.10//
CALSCALE:GREGORIAN
METHOD:PUBLISH
UID:6f284b1f-0e5d-4e9c-a170-c0fe2e1f5437
X-WR-CALDESC:Join Bergen County in participating in Save a Life Day 2025\, 
 a nationwide initiative dedicated to preventing overdose deaths through th
 e free distribution of naloxone (Narcan)—a life-saving medication that rev
 erses opioid overdoses.\n\nThis year marks the first time all 50 states ar
 e participating\, and Bergen County is proud to be part of this historic m
 ovement. Local events will be held at community centers\, libraries\, and 
 public spaces where residents can stop by to:\n\nPick up free naloxone kit
 s\nLearn how to use Narcan safely and effectively\nAccess resources for su
 bstance use prevention and recovery\nConnect with local health and harm re
 duction advocates\n\nLet’s make Bergen County a leader in overdose prevent
 ion. One dose. One life. One community.\n\nEvents are happening at:\nBerge
 n Community College\, Paramus\nEastwick College - Ramsey and Hackensack\nE
 nglewood\nFarleigh Dickenson University - Teaneck\nFelician University - R
 utherford\nFranklin Lakes\nGarfield YMCA - Garfield\n\nWhat to join us? Co
 ntact Kate Dorkhom to register.\nHackensack\nRamapo College of NJ - Mahwah
 \n\n
X-WR-RELCALID:05c148f68f0ccf792df7edfabfa01ee5
X-WR-TIMEZONE:America/New_York
BEGIN:VTIMEZONE
TZID:America/New_York
BEGIN:STANDARD
TZNAME:EST
DTSTART:20241103T020000
TZOFFSETFROM:-0400
TZOFFSETTO:-0500
RDATE:20251102T020000
RDATE:20261101T020000
END:STANDARD
BEGIN:DAYLIGHT
TZNAME:EDT
DTSTART:20250309T020000
TZOFFSETFROM:-0500
TZOFFSETTO:-0400
RDATE:20260308T020000
RDATE:20270314T020000
END:DAYLIGHT
END:VTIMEZONE
BEGIN:VEVENT
UID:d27529fb-cd3b-45e8-a5ef-3e7cdbc13758
DTSTAMP:20260423T232534Z
DESCRIPTION:Join Bergen County in participating in Save a Life Day 2025\, a
  nationwide initiative dedicated to preventing overdose deaths through the
  free distribution of naloxone (Narcan)—a life-saving medication that reve
 rses opioid overdoses.\n\nThis year marks the first time all 50 states are
  participating\, and Bergen County is proud to be part of this historic mo
 vement. Local events will be held at community centers\, libraries\, and p
 ublic spaces where residents can stop by to:\n\nPick up free naloxone kits
 \nLearn how to use Narcan safely and effectively\nAccess resources for sub
 stance use prevention and recovery\nConnect with local health and harm red
 uction advocates\n\nLet’s make Bergen County a leader in overdose preventi
 on. One dose. One life. One community.\n\nEvents are happening at:\nBergen
  Community College\, Paramus\nEastwick College - Ramsey and Hackensack\nEn
 glewood\nFarleigh Dickenson University - Teaneck\nFelician University - Ru
 therford\nFranklin Lakes\nGarfield YMCA - Garfield\n\nWhat to join us? Con
 tact Kate Dorkhom to register.\nHackensack\nRamapo College of NJ - Mahwah
 \n\n
DTSTART;TZID=America/New_York:20250925T060000
DTEND;TZID=America/New_York:20250925T060001
LOCATION:Across Bergen County
SUMMARY:Save a Life Day
END:VEVENT
END:VCALENDAR
