BEGIN:VCALENDAR
VERSION:2.0
PRODID:-//www.tcadr.org//NONSGML kigkonsult.se iCalcreator 2.30.10//
CALSCALE:GREGORIAN
METHOD:PUBLISH
UID:df935d03-6040-40be-b66e-6866e313e23c
X-WR-CALDESC:Pathways to Student Wellness: Building Resilience Together\n\n
 Join us for an inspiring morning of education\, collaboration\, and action
  as the Bergen County Higher Education Addiction Prevention Consortium (BC
  HEAP) brings together students\, educators\, and community leaders to str
 engthen mental wellness and prevent substance misuse across our campuses.
 \n\n\n🎤Keynote Speaker:\nDr. Tonya Knox\, DBA\, MPH\, CHES\, ICPS\nCADCA T
 rainer & Drug-Free Communities Project Manager\nThis event will feature:\n
 \nInsightful presentations on student wellness and resilience\nA deep dive
  into BC HEAP’s mission and substance use data collection\nNetworking oppo
 rtunities with Bergen County’s five higher education institutions\nLight r
 efreshments and community connection
X-WR-RELCALID:5899e3de510e7e0f71159a45a62ad91a
X-WR-TIMEZONE:America/New_York
BEGIN:VTIMEZONE
TZID:America/New_York
BEGIN:STANDARD
TZNAME:EST
DTSTART:20241103T020000
TZOFFSETFROM:-0400
TZOFFSETTO:-0500
RDATE:20251102T020000
RDATE:20261101T020000
END:STANDARD
BEGIN:DAYLIGHT
TZNAME:EDT
DTSTART:20250309T020000
TZOFFSETFROM:-0500
TZOFFSETTO:-0400
RDATE:20260308T020000
RDATE:20270314T020000
END:DAYLIGHT
END:VTIMEZONE
BEGIN:VEVENT
UID:924bcb76-3e50-404c-94fd-20641c121b1c
DTSTAMP:20260423T232312Z
DESCRIPTION:Pathways to Student Wellness: Building Resilience Together\n\nJ
 oin us for an inspiring morning of education\, collaboration\, and action 
 as the Bergen County Higher Education Addiction Prevention Consortium (BC 
 HEAP) brings together students\, educators\, and community leaders to stre
 ngthen mental wellness and prevent substance misuse across our campuses.\n
 \n\n🎤Keynote Speaker:\nDr. Tonya Knox\, DBA\, MPH\, CHES\, ICPS\nCADCA Tra
 iner & Drug-Free Communities Project Manager\nThis event will feature:\n\n
 Insightful presentations on student wellness and resilience\nA deep dive i
 nto BC HEAP’s mission and substance use data collection\nNetworking opport
 unities with Bergen County’s five higher education institutions\nLight ref
 reshments and community connection
DTSTART;TZID=America/New_York:20250929T083000
DTEND;TZID=America/New_York:20250929T123000
LOCATION:Ramapo College of NJ\, Trustees Pavillian\, 505 Ramapo Valley Rd\,
  Mahwah\, NJ 07430 US
SUMMARY:BCHEAP Conference: Pathways to Student Wellness
END:VEVENT
END:VCALENDAR
