BEGIN:VCALENDAR
VERSION:2.0
PRODID:-//www.tcadr.org//NONSGML kigkonsult.se iCalcreator 2.30.10//
CALSCALE:GREGORIAN
METHOD:PUBLISH
UID:e13c08a1-27aa-45df-9654-1d1b290b88b4
X-WR-CALDESC:Thomas Jefferson Middle School in Lodi invites EPIC to table a
 nd share programs and resources from The Center. EPIC members have the cha
 nce to earn community service.
X-WR-RELCALID:b067b29f0436b9e53e6ed96955f6b0c1
X-WR-TIMEZONE:America/New_York
BEGIN:VTIMEZONE
TZID:America/New_York
BEGIN:STANDARD
TZNAME:EST
DTSTART:20241103T020000
TZOFFSETFROM:-0400
TZOFFSETTO:-0500
RDATE:20251102T020000
RDATE:20261101T020000
END:STANDARD
BEGIN:DAYLIGHT
TZNAME:EDT
DTSTART:20250309T020000
TZOFFSETFROM:-0500
TZOFFSETTO:-0400
RDATE:20260308T020000
RDATE:20270314T020000
END:DAYLIGHT
END:VTIMEZONE
BEGIN:VEVENT
UID:ab10ac25-b022-4b86-86b2-7821854fd9ac
DTSTAMP:20260423T214610Z
DESCRIPTION:Thomas Jefferson Middle School in Lodi invites EPIC to table an
 d share programs and resources from The Center. EPIC members have the chan
 ce to earn community service.
DTSTART;TZID=America/New_York:20251002T183000
DTEND;TZID=America/New_York:20251002T203000
LOCATION:75 First Street \, Lodi\, AL 07644 US
SUMMARY:TJMS Back to School Night
END:VEVENT
END:VCALENDAR
