BEGIN:VCALENDAR
VERSION:2.0
PRODID:-//www.tcadr.org//NONSGML kigkonsult.se iCalcreator 2.30.10//
CALSCALE:GREGORIAN
METHOD:PUBLISH
UID:4f396a90-4eb9-48a6-b41a-3aebc11d3962
X-WR-CALDESC:Come and Get Connected! (to resources).  As an older adult you
  may face several life challenges and issues during the transition to olde
 r adulthood.  You don't have to struggle alone. Join us for an interactive
 \,  health & wellness program to help you discuss sensitive issues with yo
 ur health care providers. \n\n*$25 Gift Card for Passaic County Older Adul
 ts that attend sessions*
X-WR-RELCALID:4bf258c1dc5a40e04aa8949d036d9b68
X-WR-TIMEZONE:America/New_York
BEGIN:VTIMEZONE
TZID:America/New_York
BEGIN:STANDARD
TZNAME:EST
DTSTART:20241103T020000
TZOFFSETFROM:-0400
TZOFFSETTO:-0500
RDATE:20251102T020000
RDATE:20261101T020000
END:STANDARD
BEGIN:DAYLIGHT
TZNAME:EDT
DTSTART:20250309T020000
TZOFFSETFROM:-0500
TZOFFSETTO:-0400
RDATE:20260308T020000
RDATE:20270314T020000
END:DAYLIGHT
END:VTIMEZONE
BEGIN:VEVENT
UID:921311f2-49fd-409f-bf8c-2e6ecbfd2ac2
DTSTAMP:20260423T213415Z
DESCRIPTION:Come and Get Connected! (to resources).  As an older adult you 
 may face several life challenges and issues during the transition to older
  adulthood.  You don't have to struggle alone. Join us for an interactive\
 ,  health & wellness program to help you discuss sensitive issues with you
 r health care providers. \n\n*$25 Gift Card for Passaic County Older Adult
 s that attend sessions*
DTSTART;TZID=America/New_York:20251021T170000
DTEND;TZID=America/New_York:20251021T180000
LOCATION:Dr. Andrew McBride Senior\, 22- 26 Ellison street\, Paterson\, NJ 
 07501 US
SUMMARY:Get Connected for Older Adults
END:VEVENT
END:VCALENDAR
