BEGIN:VCALENDAR
VERSION:2.0
PRODID:-//www.tcadr.org//NONSGML kigkonsult.se iCalcreator 2.30.10//
CALSCALE:GREGORIAN
METHOD:PUBLISH
UID:a4237279-395b-44d1-acdf-ddc1d1da8a19
X-WR-CALDESC:Join us for Seeds of Change (SOC)—an inspiring annual youth co
 nference designed to empower\, educate\, and energize. SOC offers a dynami
 c experience rooted in positive youth development\, where students explore
  real-world topics that matter to them\, including:\n\n🧠Mental Health & Co
 ping Skills\n💬Leadership \n🚫Substance Misuse Awareness\n✅ Action Planning 
 for Change\n\nThis year’s theme\, “Glow Through What You Go Through\,” shi
 nes a light on how young people can build resilience\, cope with life’s ch
 allenges\, and promote mental wellness in themselves and their communities
 .\n\nExpect interactive workshops\, powerful speakers\, and a chance to co
 nnect with peers who care about making a difference.
X-WR-RELCALID:633056830a5e4d3f45906524898eb89c
X-WR-TIMEZONE:America/New_York
BEGIN:VTIMEZONE
TZID:America/New_York
BEGIN:STANDARD
TZNAME:EST
DTSTART:20241103T020000
TZOFFSETFROM:-0400
TZOFFSETTO:-0500
RDATE:20251102T020000
RDATE:20261101T020000
END:STANDARD
BEGIN:DAYLIGHT
TZNAME:EDT
DTSTART:20250309T020000
TZOFFSETFROM:-0500
TZOFFSETTO:-0400
RDATE:20260308T020000
RDATE:20270314T020000
END:DAYLIGHT
END:VTIMEZONE
BEGIN:VEVENT
UID:8c11f264-af8d-4fb0-8a03-c137bfcd4190
DTSTAMP:20260423T214117Z
DESCRIPTION:Join us for Seeds of Change (SOC)—an inspiring annual youth con
 ference designed to empower\, educate\, and energize. SOC offers a dynamic
  experience rooted in positive youth development\, where students explore 
 real-world topics that matter to them\, including:\n\n🧠Mental Health & Cop
 ing Skills\n💬Leadership \n🚫Substance Misuse Awareness\n✅ Action Planning f
 or Change\n\nThis year’s theme\, “Glow Through What You Go Through\,” shin
 es a light on how young people can build resilience\, cope with life’s cha
 llenges\, and promote mental wellness in themselves and their communities.
 \n\nExpect interactive workshops\, powerful speakers\, and a chance to con
 nect with peers who care about making a difference.
DTSTART;TZID=America/New_York:20251024T090000
DTEND;TZID=America/New_York:20251024T140000
LOCATION:Felician University - Lodi Campus\, 262 South Main Street\, Lodi\,
  Lodi\, NJ 07644 US
SUMMARY:Seeds of Change Youth Leadership Conference
END:VEVENT
END:VCALENDAR
