BEGIN:VCALENDAR
VERSION:2.0
PRODID:-//www.tcadr.org//NONSGML kigkonsult.se iCalcreator 2.30.10//
CALSCALE:GREGORIAN
METHOD:PUBLISH
UID:b7a980b9-1cf0-4576-8019-e60e5b839674
X-WR-CALDESC:
X-WR-RELCALID:f899c41ab82354874bfc9fc81cc4a67e
X-WR-TIMEZONE:America/New_York
BEGIN:VTIMEZONE
TZID:America/New_York
BEGIN:STANDARD
TZNAME:EST
DTSTART:20241103T020000
TZOFFSETFROM:-0400
TZOFFSETTO:-0500
RDATE:20251102T020000
RDATE:20261101T020000
END:STANDARD
BEGIN:DAYLIGHT
TZNAME:EDT
DTSTART:20250309T020000
TZOFFSETFROM:-0500
TZOFFSETTO:-0400
RDATE:20260308T020000
RDATE:20270314T020000
END:DAYLIGHT
END:VTIMEZONE
BEGIN:VEVENT
UID:40dba533-1200-4e6f-a8f5-8bd109ac94b2
DTSTAMP:20260423T213442Z
DESCRIPTION:
DTSTART;TZID=America/New_York:20251027T180000
DTEND;TZID=America/New_York:20251027T203000
LOCATION:
SUMMARY:Virtual Strengthening Families Program - Bergen County
END:VEVENT
END:VCALENDAR
