BEGIN:VCALENDAR
VERSION:2.0
PRODID:-//www.tcadr.org//NONSGML kigkonsult.se iCalcreator 2.30.10//
CALSCALE:GREGORIAN
METHOD:PUBLISH
UID:afa71ebb-ee48-489e-8405-7c3e08db7e66
X-WR-CALDESC:
X-WR-RELCALID:972dea4cabe1b7e80cbca97702755666
X-WR-TIMEZONE:America/New_York
BEGIN:VTIMEZONE
TZID:America/New_York
BEGIN:STANDARD
TZNAME:EST
DTSTART:20251102T020000
TZOFFSETFROM:-0400
TZOFFSETTO:-0500
RDATE:20261101T020000
END:STANDARD
BEGIN:DAYLIGHT
TZNAME:EDT
DTSTART:20250309T020000
TZOFFSETFROM:-0500
TZOFFSETTO:-0400
RDATE:20260308T020000
RDATE:20270314T020000
END:DAYLIGHT
END:VTIMEZONE
BEGIN:VEVENT
UID:990d47cb-b72e-4b8b-8a64-b8817d3fcf46
DTSTAMP:20260423T200038Z
DESCRIPTION:
DTSTART;TZID=America/New_York:20251110T180000
DTEND;TZID=America/New_York:20251110T203000
LOCATION:
SUMMARY:Virtual Strengthening Families Program - Bergen County
END:VEVENT
END:VCALENDAR
