BEGIN:VCALENDAR
VERSION:2.0
PRODID:-//www.tcadr.org//NONSGML kigkonsult.se iCalcreator 2.30.10//
CALSCALE:GREGORIAN
METHOD:PUBLISH
UID:1e8d659f-a1d8-4a52-ad12-456a0a777d8e
X-WR-CALDESC:
X-WR-RELCALID:591dcbf04c30c9830e84cc2539642fbc
X-WR-TIMEZONE:America/New_York
BEGIN:VTIMEZONE
TZID:America/New_York
BEGIN:STANDARD
TZNAME:EST
DTSTART:20251102T020000
TZOFFSETFROM:-0400
TZOFFSETTO:-0500
RDATE:20261101T020000
END:STANDARD
BEGIN:DAYLIGHT
TZNAME:EDT
DTSTART:20250309T020000
TZOFFSETFROM:-0500
TZOFFSETTO:-0400
RDATE:20260308T020000
RDATE:20270314T020000
END:DAYLIGHT
END:VTIMEZONE
BEGIN:VEVENT
UID:5ddf7a72-fa9d-448c-a7cd-c5e9bb7a1755
DTSTAMP:20260423T200455Z
DESCRIPTION:
DTSTART;TZID=America/New_York:20251112T190000
DTEND;TZID=America/New_York:20251112T200000
LOCATION:https://us06web.zoom.us/meeting/register/KxoIE0wcRVSSjHoxbSSY3A
SUMMARY:BACSA Coalition Monthly Meeting
END:VEVENT
END:VCALENDAR
