BEGIN:VCALENDAR
VERSION:2.0
PRODID:-//www.tcadr.org//NONSGML kigkonsult.se iCalcreator 2.30.10//
CALSCALE:GREGORIAN
METHOD:PUBLISH
UID:196ed933-56ea-4195-a249-0194d817edcc
X-WR-CALDESC:Mark your calendars for November 13\, 2025—a day dedicated to 
 education\, awareness\, and action in the fight against addiction. This an
 nual conference brings together advocates\, educators\, medical profession
 als\, law enforcement\, and community leaders to discuss the latest strate
 gies in prevention and treatment.\n\n📍Location: @fiesta_banquets \, Wood-R
 idge\, NJ\n⏰ Time: 8:45 AM – 3:00 PM (Registration starts at 8:00 AM)\n💰ee
 : $85 (Includes breakfast & lunch)\n\nDon't miss this opportunity to conne
 ct\, learn\, and make a difference!\n\nRegistration opens Monday\, July 7!
X-WR-RELCALID:73a6394804f78bbfd15761e414d5d2ad
X-WR-TIMEZONE:America/New_York
BEGIN:VTIMEZONE
TZID:America/New_York
BEGIN:STANDARD
TZNAME:EST
DTSTART:20251102T020000
TZOFFSETFROM:-0400
TZOFFSETTO:-0500
RDATE:20261101T020000
END:STANDARD
BEGIN:DAYLIGHT
TZNAME:EDT
DTSTART:20250309T020000
TZOFFSETFROM:-0500
TZOFFSETTO:-0400
RDATE:20260308T020000
RDATE:20270314T020000
END:DAYLIGHT
END:VTIMEZONE
BEGIN:VEVENT
UID:c98d0265-a738-4dfa-a936-a7224cb67888
DTSTAMP:20260423T200419Z
DESCRIPTION:Mark your calendars for November 13\, 2025—a day dedicated to e
 ducation\, awareness\, and action in the fight against addiction. This ann
 ual conference brings together advocates\, educators\, medical professiona
 ls\, law enforcement\, and community leaders to discuss the latest strateg
 ies in prevention and treatment.\n\n📍Location: @fiesta_banquets \, Wood-Ri
 dge\, NJ\n⏰ Time: 8:45 AM – 3:00 PM (Registration starts at 8:00 AM)\n💰ee:
  $85 (Includes breakfast & lunch)\n\nDon't miss this opportunity to connec
 t\, learn\, and make a difference!\n\nRegistration opens Monday\, July 7!
DTSTART;TZID=America/New_York:20251113T080000
DTEND;TZID=America/New_York:20251113T150000
LOCATION:The Fiesta\, 255 NJ-17\, Wood-Ridge\, NJ 07075 US
SUMMARY:Tree of Addiction Conference
END:VEVENT
END:VCALENDAR
