BEGIN:VCALENDAR
VERSION:2.0
PRODID:-//www.tcadr.org//NONSGML kigkonsult.se iCalcreator 2.30.10//
CALSCALE:GREGORIAN
METHOD:PUBLISH
UID:eabbac34-1aea-4b7e-ba20-9480136d90d9
X-WR-CALDESC:
X-WR-RELCALID:0346c3a015c07ba1e5da05c0c0469bab
X-WR-TIMEZONE:America/New_York
BEGIN:VTIMEZONE
TZID:America/New_York
BEGIN:STANDARD
TZNAME:EST
DTSTART:20251102T020000
TZOFFSETFROM:-0400
TZOFFSETTO:-0500
RDATE:20261101T020000
END:STANDARD
BEGIN:DAYLIGHT
TZNAME:EDT
DTSTART:20250309T020000
TZOFFSETFROM:-0500
TZOFFSETTO:-0400
RDATE:20260308T020000
RDATE:20270314T020000
END:DAYLIGHT
END:VTIMEZONE
BEGIN:VEVENT
UID:8cc407f3-5f6b-426d-8816-7a23d67cd813
DTSTAMP:20260423T200850Z
DESCRIPTION:
DTSTART;TZID=America/New_York:20251117T180000
DTEND;TZID=America/New_York:20251117T203000
LOCATION:
SUMMARY:Virtual Strengthening Families Program - Bergen County
END:VEVENT
END:VCALENDAR
