BEGIN:VCALENDAR
VERSION:2.0
PRODID:-//www.tcadr.org//NONSGML kigkonsult.se iCalcreator 2.30.10//
CALSCALE:GREGORIAN
METHOD:PUBLISH
UID:f3833bc8-1b0c-4786-9199-facbe70a1aa9
X-WR-CALDESC:Wellness involves being aware of ourselves as whole people\, i
 ncluding a sense of balance and contentment. It is the feeling that things
  are going well for us today and can continue to go well for us tomorrow. 
 It is the belief that we have meaningful relationships and a sense of mean
 ing and purpose.
X-WR-RELCALID:9834becd1c62ee6251af9c401033c815
X-WR-TIMEZONE:America/New_York
BEGIN:VTIMEZONE
TZID:America/New_York
BEGIN:STANDARD
TZNAME:EST
DTSTART:20251102T020000
TZOFFSETFROM:-0400
TZOFFSETTO:-0500
RDATE:20261101T020000
END:STANDARD
BEGIN:DAYLIGHT
TZNAME:EDT
DTSTART:20250309T020000
TZOFFSETFROM:-0500
TZOFFSETTO:-0400
RDATE:20260308T020000
RDATE:20270314T020000
END:DAYLIGHT
END:VTIMEZONE
BEGIN:VEVENT
UID:d09049b9-09f4-4cbb-9f35-f747034ee7b6
DTSTAMP:20260423T200213Z
DESCRIPTION:Wellness involves being aware of ourselves as whole people\, in
 cluding a sense of balance and contentment. It is the feeling that things 
 are going well for us today and can continue to go well for us tomorrow. I
 t is the belief that we have meaningful relationships and a sense of meani
 ng and purpose.
DTSTART;TZID=America/New_York:20251119T130000
DTEND;TZID=America/New_York:20251119T140000
LOCATION:Oasis 59 Mill Street\, Paterson\, NJ 07501 US
SUMMARY:8 Dimensions of Wellness
END:VEVENT
END:VCALENDAR
