BEGIN:VCALENDAR
VERSION:2.0
PRODID:-//www.tcadr.org//NONSGML kigkonsult.se iCalcreator 2.30.10//
CALSCALE:GREGORIAN
METHOD:PUBLISH
UID:d560a1cd-a4e1-439d-8604-b1add4f1e3fd
X-WR-CALDESC:
X-WR-RELCALID:c931ec5bfe6e91b2108948d615f4d37c
X-WR-TIMEZONE:America/New_York
BEGIN:VTIMEZONE
TZID:America/New_York
BEGIN:STANDARD
TZNAME:EST
DTSTART:20251102T020000
TZOFFSETFROM:-0400
TZOFFSETTO:-0500
RDATE:20261101T020000
END:STANDARD
BEGIN:DAYLIGHT
TZNAME:EDT
DTSTART:20250309T020000
TZOFFSETFROM:-0500
TZOFFSETTO:-0400
RDATE:20260308T020000
RDATE:20270314T020000
END:DAYLIGHT
END:VTIMEZONE
BEGIN:VEVENT
UID:e129da21-4610-43fc-b500-8ad7c1354bdb
DTSTAMP:20260423T200148Z
DESCRIPTION:
DTSTART;TZID=America/New_York:20251124T180000
DTEND;TZID=America/New_York:20251124T203000
LOCATION:
SUMMARY:Virtual Strengthening Families Program - Bergen County
END:VEVENT
END:VCALENDAR
