BEGIN:VCALENDAR
VERSION:2.0
PRODID:-//www.tcadr.org//NONSGML kigkonsult.se iCalcreator 2.30.10//
CALSCALE:GREGORIAN
METHOD:PUBLISH
UID:b183d0f0-6f19-4122-97a2-f4d0828bb670
X-WR-CALDESC:Our agency is closed but the 24/7 hotline is open!
X-WR-RELCALID:ee76a384eb4006666fc2d09caac880e0
X-WR-TIMEZONE:America/New_York
BEGIN:VTIMEZONE
TZID:America/New_York
BEGIN:STANDARD
TZNAME:EST
DTSTART:20251102T020000
TZOFFSETFROM:-0400
TZOFFSETTO:-0500
RDATE:20261101T020000
END:STANDARD
BEGIN:DAYLIGHT
TZNAME:EDT
DTSTART:20250309T020000
TZOFFSETFROM:-0500
TZOFFSETTO:-0400
RDATE:20260308T020000
RDATE:20270314T020000
END:DAYLIGHT
END:VTIMEZONE
BEGIN:VEVENT
UID:1fbb5c73-5b48-49bc-9b04-0bc43291e68a
DTSTAMP:20260425T123016Z
DESCRIPTION:Our agency is closed but the 24/7 hotline is open!
DTSTART;TZID=America/New_York:20251224T060000
DTEND;TZID=America/New_York:20251225T060001
LOCATION:
SUMMARY:Agency Closed/ Hotline Open
END:VEVENT
END:VCALENDAR
