BEGIN:VCALENDAR
VERSION:2.0
PRODID:-//www.tcadr.org//NONSGML kigkonsult.se iCalcreator 2.30.10//
CALSCALE:GREGORIAN
METHOD:PUBLISH
UID:8938c360-3999-46a4-9874-00f00a94232b
X-WR-CALDESC:Open sessions for students to discuss substance use risk and p
 rotective factors and work on a group project. Community service hours ava
 ilable. Dinner provided
X-WR-RELCALID:c196a1d01f1fb821854ccde3e52fdafb
X-WR-TIMEZONE:America/New_York
BEGIN:VTIMEZONE
TZID:America/New_York
BEGIN:STANDARD
TZNAME:EST
DTSTART:20251102T020000
TZOFFSETFROM:-0400
TZOFFSETTO:-0500
RDATE:20261101T020000
END:STANDARD
BEGIN:DAYLIGHT
TZNAME:EDT
DTSTART:20250309T020000
TZOFFSETFROM:-0500
TZOFFSETTO:-0400
RDATE:20260308T020000
RDATE:20270314T020000
END:DAYLIGHT
END:VTIMEZONE
BEGIN:VEVENT
UID:6e5d03c7-78f7-428b-b5e5-d2c74827b658
DTSTAMP:20260425T031829Z
DESCRIPTION:Open sessions for students to discuss substance use risk and pr
 otective factors and work on a group project. Community service hours avai
 lable. Dinner provided
DTSTART;TZID=America/New_York:20260128T180000
DTEND;TZID=America/New_York:20260128T200000
LOCATION:Paramus Public Library\, 116 E Century Rd\, Paramus\, NJ 07652 US
SUMMARY:Bergen County Youth Task Force
END:VEVENT
END:VCALENDAR
